BEGIN:VCALENDAR
VERSION:2.0
PRODID:-//Tukios.com/
BEGIN:VEVENT
UID:a6ccdf5b-f224-4b5e-8c77-5fb27fc80e51@www.valleyhillsfh.com
DTSTAMP:20260421T082638Z
DTSTART:20260423T230000Z
DTEND:20260424T030000Z
SUMMARY:Viewing
DESCRIPTION:
URL:https://www.valleyhillsfh.com/obituaries/salome-gamoba
LOCATION: 531 S 16th St  Sunnyside WA 98944
GEO:46.3221549;-119.9999327
END:VEVENT
END:VCALENDAR