BEGIN:VCALENDAR
VERSION:2.0
PRODID:-//Tukios.com/
BEGIN:VEVENT
UID:e6aea3da-9d1c-4121-b2d7-724eca3cd58c@www.valleyhillsfh.com
DTSTAMP:20260421T091722Z
DTSTART:20260424T190000Z
DTEND:20260424T200000Z
SUMMARY:Reception
DESCRIPTION:
URL:https://www.valleyhillsfh.com/obituaries/salome-gamoba
LOCATION: 531 S 16th St  Sunnyside WA 98944
GEO:46.3221549;-119.9999327
END:VEVENT
END:VCALENDAR