BEGIN:VCALENDAR
VERSION:2.0
PRODID:-//Tukios.com/
BEGIN:VEVENT
UID:6583c5a7-b0fa-414c-941e-7e3b43b0e437@www.valleyhillsfh.com
DTSTAMP:20260421T091641Z
DTSTART:20260424T183000Z
DTEND:20260424T193000Z
SUMMARY:Burial
DESCRIPTION:
URL:https://www.valleyhillsfh.com/obituaries/salome-gamoba
LOCATION: 881 Vance Rd  Mabton WA 98935
GEO:46.2282852;-119.9872482
END:VEVENT
END:VCALENDAR