BEGIN:VCALENDAR
VERSION:2.0
PRODID:-//Tukios.com/
BEGIN:VEVENT
UID:7f475e3e-4d38-418e-9a7b-3366945933e4@www.valleyhillsfh.com
DTSTAMP:20260424T184627Z
DTSTART:20260516T200000Z
DTEND:20260516T210000Z
SUMMARY:Reception
DESCRIPTION:
URL:https://www.valleyhillsfh.com/obituaries/michael-hunter
LOCATION:American Legion 210 E 3rd St  Wapato WA 98951
GEO:46.4462398;-120.4178783
END:VEVENT
END:VCALENDAR