BEGIN:VCALENDAR
VERSION:2.0
PRODID:-//Tukios.com/
BEGIN:VEVENT
UID:de2064fa-0651-4c17-9167-5ba9eb7cea47@www.valleyhillsfh.com
DTSTAMP:20260424T184729Z
DTSTART:20260516T193000Z
DTEND:20260516T200000Z
SUMMARY:Graveside Service
DESCRIPTION:
URL:https://www.valleyhillsfh.com/obituaries/michael-hunter
LOCATION: 5161 W Wapato Rd  Wapato WA 98951
GEO:46.4497873;-120.5386928
END:VEVENT
END:VCALENDAR