BEGIN:VCALENDAR
VERSION:2.0
PRODID:-//Tukios.com/
BEGIN:VEVENT
UID:4ad6c0c2-adc6-4671-8844-e4c7096f6c15@www.valleyhillsfh.com
DTSTAMP:20260424T185127Z
DTSTART:20260516T170000Z
DTEND:20260516T190000Z
SUMMARY:Viewing
DESCRIPTION:
URL:https://www.valleyhillsfh.com/obituaries/michael-hunter
LOCATION: 218 W 3rd St  Wapato WA 98951
GEO:46.4462953;-120.4222184
END:VEVENT
END:VCALENDAR