BEGIN:VCALENDAR
VERSION:2.0
PRODID:-//Tukios.com/
BEGIN:VEVENT
UID:bbae6f55-8419-44ab-8939-352f49aa24a5@www.valleyhillsfh.com
DTSTAMP:20260419T234152Z
DTSTART:20260421T030000Z
DTEND:20260421T040000Z
SUMMARY:Overnight Services
DESCRIPTION:
URL:https://www.valleyhillsfh.com/obituaries/keanan-corpuz
LOCATION:     WA 
GEO:47.7510741;-120.7401386
END:VEVENT
END:VCALENDAR