BEGIN:VCALENDAR
VERSION:2.0
PRODID:-//Tukios.com/
BEGIN:VEVENT
UID:eb32549e-b7cd-427d-807a-0731c3b18e95@www.valleyhillsfh.com
DTSTAMP:20260419T234034Z
DTSTART:20260421T010000Z
DTEND:20260421T030000Z
SUMMARY:Dinner
DESCRIPTION:
URL:https://www.valleyhillsfh.com/obituaries/keanan-corpuz
LOCATION:     WA 
GEO:47.7510741;-120.7401386
END:VEVENT
END:VCALENDAR