BEGIN:VCALENDAR
VERSION:2.0
PRODID:-//Tukios.com/
BEGIN:VEVENT
UID:ab81ebc2-2a8a-4476-a978-6cc068db0a6c@www.valleyhillsfh.com
DTSTAMP:20260419T233824Z
DTSTART:20260420T180000Z
DTEND:20260420T200000Z
SUMMARY:Dressing Service
DESCRIPTION:
URL:https://www.valleyhillsfh.com/obituaries/keanan-corpuz
LOCATION:     WA 
GEO:47.7510741;-120.7401386
END:VEVENT
END:VCALENDAR