BEGIN:VCALENDAR
VERSION:2.0
PRODID:-//Tukios.com/
BEGIN:VEVENT
UID:b4bdbd98-f3ec-4d3f-a6d6-98c79ea38819@www.valleyhillsfh.com
DTSTAMP:20260419T233959Z
DTSTART:20260421T113000Z
DTEND:20260421T123000Z
SUMMARY:Washat
DESCRIPTION:
URL:https://www.valleyhillsfh.com/obituaries/keanan-corpuz
LOCATION:Union Gap Cemetery Lateral A Road  Wapato WA 98951
GEO:46.4487821;-120.47994
END:VEVENT
END:VCALENDAR