BEGIN:VCALENDAR
VERSION:2.0
PRODID:-//Tukios.com/
BEGIN:VEVENT
UID:a1afd557-b5c8-423e-b3d4-0b54cdedd61b@www.valleyhillsfh.com
DTSTAMP:20260423T193944Z
DTSTART:20260428T180000Z
DTEND:20260428T190000Z
SUMMARY:Burial
DESCRIPTION:
URL:https://www.valleyhillsfh.com/obituaries/joe-moses
LOCATION:Wah-Lai-La-kite Cemetery Ahtanum  Ahtanum WA 00000
GEO:46.5595702;-120.6220123
END:VEVENT
END:VCALENDAR