BEGIN:VCALENDAR
VERSION:2.0
PRODID:-//Tukios.com/
BEGIN:VEVENT
UID:a439897a-02ea-4744-ae1c-783f2649a076@www.valleyhillsfh.com
DTSTAMP:20260423T193950Z
DTSTART:20260428T160000Z
DTEND:20260428T173000Z
SUMMARY:Funeral Service
DESCRIPTION:
URL:https://www.valleyhillsfh.com/obituaries/joe-moses
LOCATION: 70 Rodeo Drive  White Swan WA 98952
GEO:46.376163;-120.7228076
END:VEVENT
END:VCALENDAR