BEGIN:VCALENDAR
VERSION:2.0
PRODID:-//Tukios.com/
BEGIN:VEVENT
UID:d9a5592d-37d5-4499-bfea-a7262a507652@www.valleyhillsfh.com
DTSTAMP:20260423T194303Z
DTSTART:20260428T010000Z
DTEND:20260428T020000Z
SUMMARY:Rosary
DESCRIPTION:
URL:https://www.valleyhillsfh.com/obituaries/joe-moses
LOCATION: 70 Rodeo Drive  White Swan WA 98952
GEO:46.376163;-120.7228076
END:VEVENT
END:VCALENDAR