BEGIN:VCALENDAR
VERSION:2.0
PRODID:-//Tukios.com/
BEGIN:VEVENT
UID:ba2033d1-ea75-4e31-a83c-18dfa55b857f@www.valleyhillsfh.com
DTSTAMP:20260423T193944Z
DTSTART:20260427T180000Z
DTEND:20260427T190000Z
SUMMARY:Dressing Service
DESCRIPTION:
URL:https://www.valleyhillsfh.com/obituaries/joe-moses
LOCATION: 218 W 3rd St  Wapato WA 98951
GEO:46.4462953;-120.4222184
END:VEVENT
END:VCALENDAR