BEGIN:VCALENDAR
VERSION:2.0
PRODID:-//Tukios.com/
BEGIN:VEVENT
UID:f26b9cd9-82ee-4e20-ab75-c20ab6723bfe@www.valleyhillsfh.com
DTSTAMP:20260420T200121Z
DTSTART:20260502T180000Z
DTEND:20260502T190000Z
SUMMARY:Celebration of Life
DESCRIPTION:
URL:https://www.valleyhillsfh.com/obituaries/earl-brown
LOCATION:Valley Hills Funeral Home 2600 Business Lane  Yakima WA 98901
GEO:46.6084542;-120.4650025
END:VEVENT
END:VCALENDAR